Workbook

Sheet 1. Mapa y plan de tratamiento
C1: PROCESO SISTEMA DE GESTIÓN FORMATO MAPA DE RIESGOS | AU1: Código: | AV1: FOR-SG-013
AU2: Versión: | AV2: 4
AU3: Fecha: | AV3: Memo I2025005913 – 21/02/2025
AU4: Página: | AV4: 1 de 3
AV5: Clasificación: Información Pública
A6: Mapa de riesgos de: | C6: Gestión
A8: SECCIÓN A. Identificación y análisis | M8: SECCIÓN B. Valoración y tratamiento | Z8: SECCIÓN C. Monitoreo y revisión
A9: Proceso | B9: Objetivo del proceso | C9: Actividad del proceso | D9: Circular y fecha de oficialización | E9: Código | F9: Causa raíz | G9: Riesgo | H9: Área de impacto | I9: Clasificación | J9: Riesgo Inherente | M9: Actividad de control | N9: Tipo de actividad de control | O9: Forma de ejecución de la actividad de control | P9: Riesgo Residual | S9: Decisión del líder de proceso | T9: Plan de tratamiento | Z9: Monitoreo primer trimestre | AE9: Monitoreo segundo trimestre | AK9: Monitoreo tercer trimestre | AQ9: Monitoreo cuarto trimestre
J10: Probabilidad | K10: Impacto | L10: Nivel | P10: Probabilidad | Q10: Impacto | R10: Nivel | T10: Actividades a desarrollar | U10: Responsable | V10: Indicador o criterio de medición | W10: Meta | X10: Fecha de inicio | Y10: Fecha de terminación | Z10: Fecha | AA10: Nivel de avance del periodo | AB10: Descripción de avances y evidencias | AC10: Riesgo materializado | AD10: Observaciones por parte de la segunda línea de defensa | AE10: Fecha | AF10: Nivel de avance del periodo | AG10: Nivel de avance acumulado | AH10: Descripción de avances y evidencias | AI10: Riesgo materializado | AJ10: Observaciones por parte de la segunda línea de defensa | AK10: Fecha | AL10: Nivel de avance del periodo | AM10: Nivel de avance acumulado | AN10: Descripción de avances y evidencias | AO10: Riesgo materializado | AP10: Observaciones por parte de la segunda línea de defensa | AQ10: Fecha | AR10: Nivel de avance del periodo | AS10: Nivel de avance acumulado | AT10: Descripción de avances y evidencias | AU10: Riesgo materializado | AV10: Observaciones por parte de la segunda línea de defensa
A11: Gestión y Gobierno TI | B11: Establecer políticas, procedimientos y controles que aseguren la alineación de la tecnología con la planeación estratégica, la gestión de riesgos, la optimización de costos, la mejora continua de los servicios de TI y la continuidad del negocio mediante el soporte y mantenimiento de las Tecnologías de la Información y las Comunicaciones, implementando las mejores prácticas de TIC para garantizar la utilidad de los mismos de una manera eficiente y efectiva. | C11: Gestionar los proyectos de Tecnologías de la Información y las Comunicaciones estipulados en el PETI | D11: Circular No. 014 del 27/03/2026 | E11: R-GTI-001 | F11: Debido a la falta de seguimiento a la implementación de los proyectos de Tecnología | G11: Posibilidad de afectación de la imagen institucional debido a retrasos en la implementación de los proyectos de tecnologías de la información, por falta de seguimiento. | H11: Económica | I11: Ejecución y administración de procesos | J11: 60% - Media | K11: 80% - Mayor | L11: =VLOOKUP(J11,Anexos!$B$37:$G$43,(HLOOKUP(K11,Anexos!$C$37:$G$38,2,0)),0) -> Alto | M11: El líder de gobierno de TI, trimestralmente realiza seguimiento a la implementación de las iniciativas de transformación, presupuesto y hoja de ruta establecidos en el PETI, con el fin de revisar los avances o dificultades presentados y evitar retrasos en el desarrollo de los proyectos de acuerdo con lo establecido en el indicador del Plan Estratégico de Tecnologías de la Información (PLA-TI-006). Como evidencia se cuenta con informe de seguimiento y monitoreo que refleja el estado de la implementación de las iniciativas. En caso de identificarse alguna iniciativa con rezago, se debe presentar en la mesa técnica de articulación de proyectos con componentes de TI, analizar la situación y proceder con la gestión para dar cumplimiento con lo programado. Como evidencia se cuenta con el acta de la mesa. | N11: Preventiva | O11: Manual | P11: 40% - Baja | Q11: 60% - Moderado | R11: =VLOOKUP(P11,Anexos!$B$37:$G$43,(HLOOKUP(Q11,Anexos!$C$37:$G$38,2,0)),0) -> Moderado | S11: Reducir | T11: =+M11 -> El líder de gobierno de TI, trimestralmente realiza seguimiento a la implementación de las iniciativas de transformación, presupuesto y hoja de ruta establecidos en el PETI, con el fin de revisar los avances o dificultades presentados y evitar retrasos en el desarrollo de los proyectos de acuerdo con lo establecido en el indicador del Plan Estratégico de Tecnologías de la Información (PLA-TI-006). Como evidencia se cuenta con informe de seguimiento y monitoreo que refleja el estado de la implementación de las iniciativas. En caso de identificarse alguna iniciativa con rezago, se debe presentar en la mesa técnica de articulación de proyectos con componentes de TI, analizar la situación y proceder con la gestión para dar cumplimiento con lo programado. Como evidencia se cuenta con el acta de la mesa. | U11: Líder de Gobierno TI | V11: (Número de seguimientos realizados / Total de seguimientos programados) * 100 Nota programación: I trim 0% II trim 33% III trim 33% IV trim 34% | W11: 1 | X11: 46113 | Y11: 46387 | Z11: 46121 | AB11: Para el primer trimestre no se contaba con programación para ejecutar la actividad de control. | AC11: NO | AD11: 13/04/2026 No se generan observaciones respecto al monitoreo del riesgo de gestión. Se recomienda adelantar las acciones pertinentes para asegurar el cumplimiento de la actividad de control y la meta propuesta. | AE11: 46210 | AF11: 0.33 | AG11: 0.33 | AH11: Se realiza el informe de seguimiento al Plan Estratégico de Tecnologías de la Información en el cual se presenta el estado de avance de las iniciativas, el comportamiento de los indicadores de desempeño correspondientes a nivel de ejecución y el seguimiento a la ejecución del PETI, cumplimiento presupuestal y tiempo de ejecución de los proyectos durante el segundo trimestre, se da cumplimiento al 100% de la meta establecida para el segundo trimestre la cual corresponde al 33%, como evidencia se deja el informe de seguimiento. | AI11: NO | AJ11: 09/07/2026 Se recomienda verificar el avance reportado, en coherencia con la programación, indicador y meta establecida. 21/0/2026 No se generan observaciones respecto al monitoreo del riesgo de gestión, sin embargo, se recomienda adelantar las acciones pertinentes para asegurar el cumplimiento de la actividad de control y la meta propuesta. | AK11: 46301 | AL11: 0.33 | AM11: =+AG11+AL11 -> 0.66 | AN11: Se realiza el informe de seguimiento al Plan Estratégico de Tecnologías de la Información en el cual se presenta el estado de avance de las iniciativas, el comportamiento de los indicadores de desempeño correspondientes a nivel de ejecución y el seguimiento a la ejecución del PETI, cumplimiento presupuestal y tiempo de ejecución de los proyectos durante el tercer trimestre, se da cumplimiento al 100% de la meta establecida para el segundo trimestre la cual corresponde al 33%, como evidencia se deja el informe de seguimiento. | AO11: NO | AP11: 09/10/2026 No se generan observaciones respecto al monitoreo del riesgo de gestión, sin embargo, se recomienda adelantar las acciones pertinentes para asegurar el cumplimiento de la actividad de control y la meta propuesta.
A12: Gestión y Gobierno TI | B12: Establecer políticas, procedimientos y controles que aseguren la alineación de la tecnología con la planeación estratégica, la gestión de riesgos, la optimización de costos, la mejora continua de los servicios de TI y la continuidad del negocio mediante el soporte y mantenimiento de las Tecnologías de la Información y las Comunicaciones, implementando las mejores prácticas de TIC para garantizar la utilidad de los mismos de una manera eficiente y efectiva. | C12: Gestionar los cambios, incidentes y problemas asociados a los servicios de las tecnologías de la información. | D12: Circular No. 014 del 27/03/2026 | E12: R-GTI-002 | F12: 1. Debido a falta de seguimiento oportuno a los incidentes o requerimientos reportados en la mesa de servicio y servicio de infraestructura tecnológica | G12: Posibilidad de afectación económica por demoras o reprocesos en la atención de incidentes o requerimientos tecnológicos, debido a la falta de alertas oportunas que permitan la gestión adecuada de la infraestructura y los servicios tecnológicos | H12: Económica y reputacional | I12: Fallas tecnológicas | J12: 60% - Media | K12: 60% - Moderado | L12: =VLOOKUP(J12,Anexos!$B$37:$G$43,(HLOOKUP(K12,Anexos!$C$37:$G$38,2,0)),0) -> Moderado | M12: El líder de mesa de servicios mensualmente verifica los incidentes reportados por área y oportunidad de la respuesta (casos solucionados efectivamente), con el fin de generar alertas al proceso, identificar casos recurrentes y formular acciones de mejora en la atención en cada nivel de servicio, de acuerdo con lo establecido en el procedimiento Gestión de requerimientos e incidentes de tecnologías de la información (PCD-SMT-008). Como evidencia se cuenta con un informe de incidentes reportados y los planes de mejora con las acciones definidas y realizadas trimestralmente, cuando aplique. En caso de presentarse alguna inconsistencia en el seguimiento, se debe analizar y proceder con las alertas o acciones respectivas para dar solución a lo presentado. | N12: Preventiva | O12: Manual | P12: 40% - Baja | Q12: 60% - Moderado | R12: =VLOOKUP(P12,Anexos!$B$37:$G$43,(HLOOKUP(Q12,Anexos!$C$37:$G$38,2,0)),0) -> Moderado | S12: Reducir | T12: =+M12 -> El líder de mesa de servicios mensualmente verifica los incidentes reportados por área y oportunidad de la respuesta (casos solucionados efectivamente), con el fin de generar alertas al proceso, identificar casos recurrentes y formular acciones de mejora en la atención en cada nivel de servicio, de acuerdo con lo establecido en el procedimiento Gestión de requerimientos e incidentes de tecnologías de la información (PCD-SMT-008). Como evidencia se cuenta con un informe de incidentes reportados y los planes de mejora con las acciones definidas y realizadas trimestralmente, cuando aplique. En caso de presentarse alguna inconsistencia en el seguimiento, se debe analizar y proceder con las alertas o acciones respectivas para dar solución a lo presentado. | U12: Líder mesa de servicio | V12: (Número de informes de incidentes y requerimientos / 12 Informes de incidentes y requerimientos) * 100 | W12: 1 | X12: 46023 | Y12: 46387 | Z12: 46121 | AA12: =+(0.25)*100% -> 0.25 | AB12: Durante el periodo evaluado, la Mesa de Servicio reporto 342 incidentes, para lo cual se realiza el respectivo informe que da cuenta de las principales tendencias de incidentes reportados y las acciones de mejora establecidas para dichos casos, se anexan los reportes registrados para cada mes y el informe correspondiente, dando cumplimiento a la meta establecida. | AC12: NO | AD12: 13/04/2026 Se recomienda: * Indicar si el riesgo se materializo. * Indicar si dentro del periodo verificado y reportado se identifico alguna inconsistencia y en caso afirmativo, si se procedió con la respectiva alerta. * Se sugiere indicar cifras de incidentes identificados y reportados (si aplica) en cada mes. 15/04/2026 No se generan observaciones adicionales, respecto al avance y evidencias reportados para el primer monitoreo del riesgo de gestión. Se recomienda adelantar las acciones pertinentes para asegurar el cumplimiento de la actividad de control y la meta propuesta. | AE12: 46210 | AF12: =+(0.25)*100% -> 0.25 | AG12: =+AF12+AA12 -> 0.5 | AH12: Durante el segundo trimestre la mesa de servicio reporto 180 incidentes para lo cual se anexa el registro de incidentes correspondiente y como complemente el informe que da cuenta de las tendencias principales y las acciones de mejora establecidas, con estas acciones se da cumplimiento al control establecido. Nota aclaratoria: se realiza el ajuste del avance reportado en el primer trimestre, ya que este corresponde a la realización de tres informes, lo cual corresponde a un avance real del 25%. | AI12: NO | AJ12: 09/07/2026 Se recomienda verificar el avance reportado, en coherencia con la evidencia, programación, indicador y meta establecida. 21/07/2026 No se generan observaciones respecto al monitoreo del riesgo de gestión, sin embargo, se recomienda adelantar las acciones pertinentes para asegurar el cumplimiento de la actividad de control y la meta propuesta. | AK12: 46301 | AL12: 0.25 | AM12: 0.75 | AN12: Durante el tercer trimestre la mesa de servicio reporto 67 incidentes para lo cual se anexa el registro de incidentes correspondiente y como complemente el informe que da cuenta de las tendencias principales y las acciones de mejora establecidas, con estas acciones se da cumplimiento al control establecido. | AO12: NO | AP12: 09/10/2026 No se generan observaciones respecto al monitoreo del riesgo de gestión, sin embargo, se recomienda adelantar las acciones pertinentes para asegurar el cumplimiento de la actividad de control y la meta propuesta.
A13: Gestión y Gobierno TI | B13: Establecer políticas, procedimientos y controles que aseguren la alineación de la tecnología con la planeación estratégica, la gestión de riesgos, la optimización de costos, la mejora continua de los servicios de TI y la continuidad del negocio mediante el soporte y mantenimiento de las Tecnologías de la Información y las Comunicaciones, implementando las mejores prácticas de TIC para garantizar la utilidad de los mismos de una manera eficiente y efectiva. | C13: Gestionar los cambios, incidentes y problemas asociados a los servicios de las tecnologías de la información. | D13: Circular No. 014 del 27/03/2026 | E13: R-GTI-002 | F13: 2. Debido a debilidades o desconocimiento de las actividades establecidas para gestionar los requerimientos e incidentes de tecnologías de la información para la atención de la mesa de servicio y servicio de infraestructura tecnológica | G13: Posibilidad de afectación económica por demoras o reprocesos en la atención de incidentes o requerimientos tecnológicos, debido a la falta de alertas oportunas que permitan la gestión adecuada de la infraestructura y los servicios tecnológicos | H13: Económica y reputacional | I13: Fallas tecnológicas | J13: 60% - Media | K13: 60% - Moderado | L13: =VLOOKUP(J13,Anexos!$B$37:$G$43,(HLOOKUP(K13,Anexos!$C$37:$G$38,2,0)),0) -> Moderado | M13: El líder de Infraestructura , trimestralmente revisa el mantenimiento de la infraestructura tecnológica con el fin de establecer las capacidades para la adquisición e implementación referente a modernización y sostenibilidad de la infraestructura tecnológica para la SDIS, con el fin de brindar los servicios de manera efectiva, de acuerdo a lo establecido en el Plan de Mantenimiento de Infraestructura Tecnológica (PLA-TI-009). La evidencia es un informe que el líder de mesa de Infraestructura Tecnológica elabora trimestralmente con los resultados del seguimiento. En caso de encontrar alguna inconsistencia en el seguimiento se debe analizar y proceder con las acciones de mejora respectivas para dar solución a lo presentado. | N13: Preventiva | O13: Manual | P13: 40% - Baja | Q13: 60% - Moderado | R13: =VLOOKUP(P13,Anexos!$B$37:$G$43,(HLOOKUP(Q13,Anexos!$C$37:$G$38,2,0)),0) -> Moderado | S13: Reducir | T13: =+M13 -> El líder de Infraestructura , trimestralmente revisa el mantenimiento de la infraestructura tecnológica con el fin de establecer las capacidades para la adquisición e implementación referente a modernización y sostenibilidad de la infraestructura tecnológica para la SDIS, con el fin de brindar los servicios de manera efectiva, de acuerdo a lo establecido en el Plan de Mantenimiento de Infraestructura Tecnológica (PLA-TI-009). La evidencia es un informe que el líder de mesa de Infraestructura Tecnológica elabora trimestralmente con los resultados del seguimiento. En caso de encontrar alguna inconsistencia en el seguimiento se debe analizar y proceder con las acciones de mejora respectivas para dar solución a lo presentado. | U13: Líder Infraestructura Tecnológica | V13: (Número de seguimientos realizados / Total de seguimientos programados) * 100 Nota programación: I trim 0% II trim 33% III trim 33% IV trim 34% | W13: 1 | X13: 46113 | Y13: 46387 | Z13: 46121 | AB13: Para el primer trimestre no se contaba con programación para ejecutar la actividad de control. | AC13: NO | AD13: 13/04/2026 No se generan observaciones respecto al monitoreo del riesgo de gestión. Se recomienda adelantar las acciones pertinentes para asegurar el cumplimiento de la actividad de control y la meta propuesta. | AE13: 46210 | AF13: 0.33 | AG13: 0.33 | AH13: Durante el segundo trimestre se realiza el informe de seguimiento y monitoreo de la Infraestructura Tecnológica de la SDIS en el cual se detallan la disponibilidad, actividades de mantenimiento e incidentes presentados por cada uno de los servicios de TI . Se da cumplimiento a la actividad establecida para el segundo trimestre cumplimiento 100% establecida para el segundo trimestre la cual corresponde al 33%, como evidencia se deja el informe de seguimiento. | AI13: NO | AJ13: 09/07/2026 Se recomienda verificar el avance reportado, en coherencia con la programación, indicador y meta establecida. 21/07/2026 No se generan observaciones respecto al monitoreo del riesgo de gestión, sin embargo, se recomienda, adelantar las acciones pertinentes para asegurar el cumplimiento de la actividad de control y la meta propuesta. | AK13: 46301 | AL13: 0.33 | AM13: 0.66 | AN13: Durante el tercer trimestre se realiza el informe de seguimiento y monitoreo de la Infraestructura Tecnológica de la SDIS en el cual se detallan la disponibilidad, actividades de mantenimiento e incidentes presentados por cada uno de los servicios de TI . Se da cumplimiento a la actividad establecida para el tercer trimestre cumplimiento 100% establecida para el segundo trimestre la cual corresponde al 33%, como evidencia se deja el informe de seguimiento. | AO13: NO | AP13: 09/10/2026 No se generan observaciones respecto al monitoreo del riesgo de gestión, sin embargo, se recomienda adelantar las acciones pertinentes para asegurar el cumplimiento de la actividad de control y la meta propuesta.

Sheet 2. Evaluación de controles
D2: PROCESO SISTEMA DE GESTIÓN FORMATO MAPA DE RIESGOS | V2: Código: | W2: FOR-SG-013
V3: Versión: | W3: 4
V4: Fecha: | W4: Memo I2025005913 – 21/02/2025
V5: Página: | W5: 2 de 3
W6: Clasificación: Información Pública
B7: A continuación se presenta la evaluación realizada por la primera línea como responsable del diseño de los controles establecidos para la mitigación de los riesgos.
B9: Fecha de elaboración: | D9: 46186 | F9: Proceso: | G9: Gestión y Gobierno TI | J9: Nombres y apellidos del gestor de proceso: | N9: Olga Lucia Gomez Carrillo
B11: CÓDIGO | C11: RIESGO | D11: PROBABILIDAD INHERENTE | F11: CAUSA | G11: CONTROL | H11: CRITERIOS DE EVALUACIÓN DEL DISEÑO DEL CONTROL | Q11: APLICACIÓN DE CONTROLES PARA ESTABLECER RIESGO RESIDUAL | U11: PROBABILIDAD RESIDUAL
H12: 1. Atributos de eficiencia | L12: 2. Atributos informativos | Q12: Total valoración del control | R12: Efectividad del control | S12: Efectividad del conjunto de controles | T12: Nivel de probabilidad residual | U12: Rango de califiación de la ejecución
D13: Descriptor | E13: Nivel | H13: Tipo de control | I13: Peso | J13: Implementación del control | K13: Peso | L13: Documentación | M13: Responsable | N13: ¿Se identifica claramente el propósito de la actividad de control? | O13: Frecuencia | P13: Evidencia
B14: R-GTI-001 | C14: =+'1. Mapa y plan de tratamiento'!G11 -> Posibilidad de afectación de la imagen institucional debido a retrasos en la implementación de los proyectos de tecnologías de la información, por falta de seguimiento. | D14: Media | E14: =VLOOKUP(D14,[1]Criterios!$A$20:$B$24,2,FALSE) -> 0.6 | F14: =+'1. Mapa y plan de tratamiento'!F11 -> Debido a la falta de seguimiento a la implementación de los proyectos de Tecnología | G14: =+'1. Mapa y plan de tratamiento'!T11 -> El líder de gobierno de TI, trimestralmente realiza seguimiento a la implementación de las iniciativas de transformación, presupuesto y hoja de ruta establecidos en el PETI, con el fin de revisar los avances o dificultades presentados y evitar retrasos en el desarrollo de los proyectos de acuerdo con lo establecido en el indicador del Plan Estratégico de Tecnologías de la Información (PLA-TI-006). Como evidencia se cuenta con informe de seguimiento y monitoreo que refleja el estado de la implementación de las iniciativas. En caso de identificarse alguna iniciativa con rezago, se debe presentar en la mesa técnica de articulación de proyectos con componentes de TI, analizar la situación y proceder con la gestión para dar cumplimiento con lo programado. Como evidencia se cuenta con el acta de la mesa. | H14: Preventivo | I14: =VLOOKUP(H14,[1]Criterios!$B$3:$C$6,2,FALSE) -> 0.25 | J14: Manual | K14: =VLOOKUP(J14,[1]Criterios!$B$7:$C$9,2,FALSE) -> 0.15 | L14: Documentado | M14: Identificado | N14: Si | O14: Continua | P14: Con registro | Q14: =+I14+K14 -> 0.4 | R14: =(E14-(E14*Q14)) -> 0.36 | S14: =IF(R15>1%,R15,R14) -> #REF! | T14: =IF(S18>1%,S18,(IF(S16>1%,S16,S14))) -> #REF! | U14: =IF(T14<=20%,[1]Criterios!$A$20,IF(T14<=40%,[1]Criterios!$A$21,IF(T14<=60%,[1]Criterios!$A$22,IF(T14<=80,[1]Criterios!$A$23,[1]Criterios!$A$24)))) -> #REF!
H15: No aplica | I15: =VLOOKUP(H15,[1]Criterios!$B$3:$C$6,2,FALSE) -> #REF! | J15: No aplica | K15: =VLOOKUP(J15,[1]Criterios!$B$7:$C$9,2,FALSE) -> 0 | Q15: =+I15+K15 -> #REF! | R15: =(R14-(R14*Q15)) -> #REF!
H16: No aplica | I16: =VLOOKUP(H16,[1]Criterios!$B$3:$C$6,2,FALSE) -> #REF! | J16: No aplica | K16: 0 | Q16: 0 | R16: =IF(Q16>1%,(R15-(R15*Q16)),Q16) -> 0 | S16: =IF(R17>1%,R17,R16) -> #REF!
H17: No aplica | I17: =VLOOKUP(H17,[1]Criterios!$B$3:$C$6,2,FALSE) -> #REF! | J17: No aplica | K17: =VLOOKUP(J17,[1]Criterios!$B$7:$C$9,2,FALSE) -> 0 | Q17: =+I17+K17 -> #REF! | R17: =(R16-(R16*Q17)) -> #REF!
H18: No aplica | I18: =VLOOKUP(H18,[1]Criterios!$B$3:$C$6,2,FALSE) -> #REF! | J18: No aplica | K18: =VLOOKUP(J18,[1]Criterios!$B$7:$C$9,2,FALSE) -> 0 | Q18: =+I18+K18 -> #REF! | R18: =IF(Q18>1%,(R17-(R17*Q18)),Q18) -> #REF! | S18: =IF(R19>1%,R19,R18) -> #REF!
H19: No aplica | I19: =VLOOKUP(H19,[1]Criterios!$B$3:$C$6,2,FALSE) -> #REF! | J19: No aplica | K19: =VLOOKUP(J19,[1]Criterios!$B$7:$C$9,2,FALSE) -> 0 | Q19: =+I19+K19 -> #REF! | R19: =IF(Q19>1%,(R18-(R18*Q19)),Q19) -> #REF!
B20: R-GTI-002 | C20: Posibilidad de afectación económica por demoras o reprocesos en la atención de incidentes o requerimientos tecnológicos, debido a la falta de alertas oportunas que permitan la gestión adecuada de la infraestructura y los servicios tecnológicos | D20: Media | E20: =VLOOKUP(D20,[1]Criterios!$A$20:$B$24,2,FALSE) -> 0.6 | F20: 1. Debido a falta de seguimiento oportuno a los incidentes o requerimientos reportados en la mesa de servicio y servicio de infraestructura tecnológica | G20: =+'1. Mapa y plan de tratamiento'!T12 -> El líder de mesa de servicios mensualmente verifica los incidentes reportados por área y oportunidad de la respuesta (casos solucionados efectivamente), con el fin de generar alertas al proceso, identificar casos recurrentes y formular acciones de mejora en la atención en cada nivel de servicio, de acuerdo con lo establecido en el procedimiento Gestión de requerimientos e incidentes de tecnologías de la información (PCD-SMT-008). Como evidencia se cuenta con un informe de incidentes reportados y los planes de mejora con las acciones definidas y realizadas trimestralmente, cuando aplique. En caso de presentarse alguna inconsistencia en el seguimiento, se debe analizar y proceder con las alertas o acciones respectivas para dar solución a lo presentado. | H20: Preventivo | I20: =VLOOKUP(H20,[1]Criterios!$B$3:$C$6,2,FALSE) -> 0.25 | J20: Manual | K20: =VLOOKUP(J20,[1]Criterios!$B$7:$C$9,2,FALSE) -> 0.15 | L20: Documentado | M20: Identificado | N20: Si | O20: Continua | P20: Con registro | Q20: =+I20+K20 -> 0.4 | R20: =(E20-(E20*Q20)) -> 0.36 | S20: =IF(R21>1%,R21,R20) -> #REF! | T20: =IF(S24>1%,S24,(IF(S22>1%,S22,S20))) -> #REF! | U20: =IF(T20<=20%,[1]Criterios!$A$20,IF(T20<=40%,[1]Criterios!$A$21,IF(T20<=60%,[1]Criterios!$A$22,IF(T20<=80,[1]Criterios!$A$23,[1]Criterios!$A$24)))) -> #REF!
H21: No aplica | I21: =VLOOKUP(H21,[1]Criterios!$B$3:$C$6,2,FALSE) -> #REF! | J21: No aplica | K21: =VLOOKUP(J21,[1]Criterios!$B$7:$C$9,2,FALSE) -> 0 | Q21: =+I21+K21 -> #REF! | R21: =(R20-(R20*Q21)) -> #REF!
F22: =+'1. Mapa y plan de tratamiento'!F13 -> 2. Debido a debilidades o desconocimiento de las actividades establecidas para gestionar los requerimientos e incidentes de tecnologías de la información para la atención de la mesa de servicio y servicio de infraestructura tecnológica | G22: =+'1. Mapa y plan de tratamiento'!T13 -> El líder de Infraestructura , trimestralmente revisa el mantenimiento de la infraestructura tecnológica con el fin de establecer las capacidades para la adquisición e implementación referente a modernización y sostenibilidad de la infraestructura tecnológica para la SDIS, con el fin de brindar los servicios de manera efectiva, de acuerdo a lo establecido en el Plan de Mantenimiento de Infraestructura Tecnológica (PLA-TI-009). La evidencia es un informe que el líder de mesa de Infraestructura Tecnológica elabora trimestralmente con los resultados del seguimiento. En caso de encontrar alguna inconsistencia en el seguimiento se debe analizar y proceder con las acciones de mejora respectivas para dar solución a lo presentado. | H22: Preventivo | I22: =VLOOKUP(H22,[1]Criterios!$B$3:$C$6,2,FALSE) -> 0.25 | J22: Manual | K22: 0 | L22: Documentado | M22: Identificado | N22: Si | O22: Continua | P22: Con registro | Q22: =+I22+K22 -> 0.25 | R22: =IF(Q22>1%,(R21-(R21*Q22)),Q22) -> #REF! | S22: =IF(R23>1%,R23,R22) -> #REF!
G23: 2. | H23: No aplica | I23: =VLOOKUP(H23,[1]Criterios!$B$3:$C$6,2,FALSE) -> #REF! | J23: No aplica | K23: =VLOOKUP(J23,[1]Criterios!$B$7:$C$9,2,FALSE) -> 0 | Q23: =+I23+K23 -> #REF! | R23: =(R22-(R22*Q23)) -> #REF!
G24: 1. | H24: No aplica | I24: =VLOOKUP(H24,[1]Criterios!$B$3:$C$6,2,FALSE) -> #REF! | J24: No aplica | K24: =VLOOKUP(J24,[1]Criterios!$B$7:$C$9,2,FALSE) -> 0 | Q24: =+I24+K24 -> #REF! | R24: =IF(Q24>1%,(R23-(R23*Q24)),Q24) -> #REF! | S24: =IF(R25>1%,R25,R24) -> #REF!
G25: 2. | H25: No aplica | I25: =VLOOKUP(H25,[1]Criterios!$B$3:$C$6,2,FALSE) -> #REF! | J25: No aplica | K25: =VLOOKUP(J25,[1]Criterios!$B$7:$C$9,2,FALSE) -> 0 | Q25: =+I25+K25 -> #REF! | R25: =IF(Q25>1%,(R24-(R24*Q25)),Q25) -> #REF!
B29: A continuación se presenta el análisis realizado por la segunda línea como responsable de revisar el adecuado diseño y ejecución de los controles que se han establecido por parte de la primera línea de defensa, con el fin de determinar las recomendaciones para el fortalecimiento de los mismos.
B31: Fecha de elaboración: | D31: 46224 | F31: Proceso: | G31: Gestión y Gobierno TI | I31: Nombres y apellidos del responsable de la revisión: | N31: Sofy Lorena Arenas Vera
B33: CÓDIGO | C33: RIESGO | D33: PROBABILIDAD INHERENTE | F33: CAUSA | G33: CONTROL | H33: CRITERIOS DE EVALUACIÓN DEL DISEÑO DEL CONTROL | Q33: APLICACIÓN DE CONTROLES PARA ESTABLECER RIESGO RESIDUAL | U33: PROBABILIDAD RESIDUAL | V33: OBSERVACIONES AL DISEÑO DEL CONTROL
H34: 1. Atributos de eficiencia | L34: 2. Atributos informativos | Q34: Total valoración del control | R34: Efectividad del control | S34: Efectividad del conjunto de controles | T34: Nivel de probabilidad residual | U34: Rango de calificación de la ejecución
D35: Descriptor | E35: Nivel | H35: Tipo de control | I35: Peso | J35: Implementación del control | K35: Peso | L35: Documentación | M35: Responsable | N35: ¿Se identifica claramente el propósito de la actividad de control? | O35: Frecuencia | P35: Evidencia
B36: =+'1. Mapa y plan de tratamiento'!E11 -> R-GTI-001 | C36: =+'1. Mapa y plan de tratamiento'!G11 -> Posibilidad de afectación de la imagen institucional debido a retrasos en la implementación de los proyectos de tecnologías de la información, por falta de seguimiento. | D36: Media | E36: =VLOOKUP(D36,[1]Criterios!$A$20:$B$24,2,FALSE) -> 0.6 | F36: =+'1. Mapa y plan de tratamiento'!F11 -> Debido a la falta de seguimiento a la implementación de los proyectos de Tecnología | G36: =+'1. Mapa y plan de tratamiento'!M11 -> El líder de gobierno de TI, trimestralmente realiza seguimiento a la implementación de las iniciativas de transformación, presupuesto y hoja de ruta establecidos en el PETI, con el fin de revisar los avances o dificultades presentados y evitar retrasos en el desarrollo de los proyectos de acuerdo con lo establecido en el indicador del Plan Estratégico de Tecnologías de la Información (PLA-TI-006). Como evidencia se cuenta con informe de seguimiento y monitoreo que refleja el estado de la implementación de las iniciativas. En caso de identificarse alguna iniciativa con rezago, se debe presentar en la mesa técnica de articulación de proyectos con componentes de TI, analizar la situación y proceder con la gestión para dar cumplimiento con lo programado. Como evidencia se cuenta con el acta de la mesa. | H36: Preventivo | I36: =VLOOKUP(H36,[1]Criterios!$B$3:$C$6,2,FALSE) -> 0.25 | J36: Manual | K36: =VLOOKUP(J36,[1]Criterios!$B$7:$C$9,2,FALSE) -> 0.15 | L36: Documentado | M36: Identificado | N36: Si | O36: Continua | P36: Con registro | Q36: =+I36+K36 -> 0.4 | R36: =(E36-(E36*Q36)) -> 0.36 | S36: =IF(R37>1%,R37,R36) -> #REF! | T36: =IF(S40>1%,S40,(IF(S38>1%,S38,S36))) -> #REF! | U36: =IF(T36<=20%,[1]Criterios!$A$20,IF(T36<=40%,[1]Criterios!$A$21,IF(T36<=60%,[1]Criterios!$A$22,IF(T36<=80,[1]Criterios!$A$23,[1]Criterios!$A$24)))) -> #REF! | V36: El diseño del control cumple con la estructura y variables definidas en el lineamiento Administración de riesgos vigente. Los atributos de eficiencia e informativos se califican de acuerdo con lo observado en el diseño y en coherencia con los soportes presentados en el primer monitoreo del riesgo. Se identifica que la actividad se esta ejecutando de acuerdo con el diseño del control.
H37: No aplica | I37: =VLOOKUP(H37,[1]Criterios!$B$3:$C$6,2,FALSE) -> #REF! | J37: No aplica | K37: =VLOOKUP(J37,[1]Criterios!$B$7:$C$9,2,FALSE) -> 0 | Q37: =+I37+K37 -> #REF! | R37: =(R36-(R36*Q37)) -> #REF!
H38: No aplica | I38: 0 | J38: No aplica | K38: 0 | Q38: 0 | R38: =IF(Q38>1%,(R37-(R37*Q38)),Q38) -> 0 | S38: =IF(R39>1%,R39,R38) -> #REF!
H39: No aplica | I39: =VLOOKUP(H39,[1]Criterios!$B$3:$C$6,2,FALSE) -> #REF! | J39: No aplica | K39: =VLOOKUP(J39,[1]Criterios!$B$7:$C$9,2,FALSE) -> 0 | Q39: =+I39+K39 -> #REF! | R39: =(R38-(R38*Q39)) -> #REF!
H40: No aplica | I40: =VLOOKUP(H40,[1]Criterios!$B$3:$C$6,2,FALSE) -> #REF! | J40: No aplica | K40: =VLOOKUP(J40,[1]Criterios!$B$7:$C$9,2,FALSE) -> 0 | Q40: =+I40+K40 -> #REF! | R40: =IF(Q40>1%,(R39-(R39*Q40)),Q40) -> #REF! | S40: =IF(R41>1%,R41,R40) -> #REF!
H41: No aplica | I41: =VLOOKUP(H41,[1]Criterios!$B$3:$C$6,2,FALSE) -> #REF! | J41: No aplica | K41: =VLOOKUP(J41,[1]Criterios!$B$7:$C$9,2,FALSE) -> 0 | Q41: =+I41+K41 -> #REF! | R41: =IF(Q41>1%,(R40-(R40*Q41)),Q41) -> #REF!
B42: =+'1. Mapa y plan de tratamiento'!E12 -> R-GTI-002 | C42: =+'1. Mapa y plan de tratamiento'!G12 -> Posibilidad de afectación económica por demoras o reprocesos en la atención de incidentes o requerimientos tecnológicos, debido a la falta de alertas oportunas que permitan la gestión adecuada de la infraestructura y los servicios tecnológicos | D42: Media | E42: =VLOOKUP(D42,[1]Criterios!$A$20:$B$24,2,FALSE) -> 0.6 | F42: =+'1. Mapa y plan de tratamiento'!F12 -> 1. Debido a falta de seguimiento oportuno a los incidentes o requerimientos reportados en la mesa de servicio y servicio de infraestructura tecnológica | G42: =+'1. Mapa y plan de tratamiento'!M12 -> El líder de mesa de servicios mensualmente verifica los incidentes reportados por área y oportunidad de la respuesta (casos solucionados efectivamente), con el fin de generar alertas al proceso, identificar casos recurrentes y formular acciones de mejora en la atención en cada nivel de servicio, de acuerdo con lo establecido en el procedimiento Gestión de requerimientos e incidentes de tecnologías de la información (PCD-SMT-008). Como evidencia se cuenta con un informe de incidentes reportados y los planes de mejora con las acciones definidas y realizadas trimestralmente, cuando aplique. En caso de presentarse alguna inconsistencia en el seguimiento, se debe analizar y proceder con las alertas o acciones respectivas para dar solución a lo presentado. | H42: Preventivo | I42: =VLOOKUP(H42,[1]Criterios!$B$3:$C$6,2,FALSE) -> 0.25 | J42: Automático | K42: =VLOOKUP(J42,[1]Criterios!$B$7:$C$9,2,FALSE) -> 0.25 | L42: Documentado | M42: Identificado | N42: Si | O42: Continua | P42: Con registro | Q42: =+I42+K42 -> 0.5 | R42: =(E42-(E42*Q42)) -> 0.3 | S42: =IF(R43>1%,R43,R42) -> #REF! | T42: =IF(S46>1%,S46,(IF(S44>1%,S44,S42))) -> #REF! | U42: =IF(T42<=20%,[1]Criterios!$A$20,IF(T42<=40%,[1]Criterios!$A$21,IF(T42<=60%,[1]Criterios!$A$22,IF(T42<=80,[1]Criterios!$A$23,[1]Criterios!$A$24)))) -> #REF! | V42: El diseño del control cumple con la estructura y variables definidas en el lineamiento Administración de riesgos vigente. Los atributos de eficiencia e informativos se califican de acuerdo con lo observado en el diseño y en coherencia con los soportes presentados en el primer monitoreo del riesgo. Se identifica que la actividad se esta ejecutando de acuerdo con el diseño del control.
H43: No aplica | I43: =VLOOKUP(H43,[1]Criterios!$B$3:$C$6,2,FALSE) -> #REF! | J43: No aplica | K43: =VLOOKUP(J43,[1]Criterios!$B$7:$C$9,2,FALSE) -> 0 | Q43: =+I43+K43 -> #REF! | R43: =(R42-(R42*Q43)) -> #REF!
F44: =+'1. Mapa y plan de tratamiento'!F13 -> 2. Debido a debilidades o desconocimiento de las actividades establecidas para gestionar los requerimientos e incidentes de tecnologías de la información para la atención de la mesa de servicio y servicio de infraestructura tecnológica | G44: =+'1. Mapa y plan de tratamiento'!M13 -> El líder de Infraestructura , trimestralmente revisa el mantenimiento de la infraestructura tecnológica con el fin de establecer las capacidades para la adquisición e implementación referente a modernización y sostenibilidad de la infraestructura tecnológica para la SDIS, con el fin de brindar los servicios de manera efectiva, de acuerdo a lo establecido en el Plan de Mantenimiento de Infraestructura Tecnológica (PLA-TI-009). La evidencia es un informe que el líder de mesa de Infraestructura Tecnológica elabora trimestralmente con los resultados del seguimiento. En caso de encontrar alguna inconsistencia en el seguimiento se debe analizar y proceder con las acciones de mejora respectivas para dar solución a lo presentado. | H44: Preventivo | I44: 0 | J44: Manual | K44: =VLOOKUP(J44,[1]Criterios!$B$7:$C$9,2,FALSE) -> 0.15 | L44: Documentado | M44: Identificado | N44: Si | O44: Continua | P44: Con registro | Q44: =+I44+K44 -> 0.15 | R44: =IF(Q44>1%,(R43-(R43*Q44)),Q44) -> #REF! | S44: =IF(R45>1%,R45,R44) -> #REF! | V44: El diseño del control cumple con la estructura y variables definidas en el lineamiento Administración de riesgos vigente. Los atributos de eficiencia e informativos se califican de acuerdo con lo observado en el diseño y en coherencia con los soportes presentados en el primer monitoreo del riesgo. Se identifica que la actividad se esta ejecutando de acuerdo con el diseño del control.
H45: No aplica | I45: =VLOOKUP(H45,[1]Criterios!$B$3:$C$6,2,FALSE) -> #REF! | J45: No aplica | K45: =VLOOKUP(J45,[1]Criterios!$B$7:$C$9,2,FALSE) -> 0 | Q45: =+I45+K45 -> #REF! | R45: =(R44-(R44*Q45)) -> #REF!
H46: No aplica | I46: =VLOOKUP(H46,[1]Criterios!$B$3:$C$6,2,FALSE) -> #REF! | J46: No aplica | K46: =VLOOKUP(J46,[1]Criterios!$B$7:$C$9,2,FALSE) -> 0 | Q46: =+I46+K46 -> #REF! | R46: =IF(Q46>1%,(R45-(R45*Q46)),Q46) -> #REF! | S46: =IF(R47>1%,R47,R46) -> #REF!
H47: No aplica | I47: =VLOOKUP(H47,[1]Criterios!$B$3:$C$6,2,FALSE) -> #REF! | J47: No aplica | K47: =VLOOKUP(J47,[1]Criterios!$B$7:$C$9,2,FALSE) -> 0 | Q47: =+I47+K47 -> #REF! | R47: =IF(Q47>1%,(R46-(R46*Q47)),Q47) -> #REF!
B52: A continuación se presenta la evaluación realizada por la tercera línea como responsable de evaluar el diseño y ejecución de los controles que se han establecido por parte de la primera línea de defensa y que se han revisado por la segunda línea de defensa, con el fin de presentar un informe de evaluación a la gestión de riesgos institucional.
...

Sheet Anexos
C1: PROCESO SISTEMA DE GESTIÓN FORMATO MAPA DE RIESGOS | F1: Código: | G1: FOR-SG-013
F2: Versión: | G2: 4
F3: Fecha: | G3: Memo I2025005913 – 21/02/2025
F4: Página: | G4: 3 de 3
G5: Clasificación: Información Pública
B6: Tabla 1. Clasificación de riesgos | I6: Categoría
B7: Ejecución y administración de procesos | C7: Pérdidas derivadas de errores en la ejecución y administración de procesos. | I7: Gestión
B8: Fraude externo | C8: Pérdida derivada de actos de fraude por personas ajenas a la organización (no participa personal de la entidad). | I8: Corrupción
B9: Fraude interno | C9: Pérdida debido a actos de fraude, actuaciones irregulares, comisión de hechos delictivos abuso de confianza, apropiación indebida, incumplimiento de regulaciones legales o internas de la entidad en las cuales está involucrado por lo menos 1 participante interno de la organización, son realizadas de forma intencional y/o con ánimo de lucro para sí mismo o para terceros. | I9: Seguridad de la información
B10: Financiero | C10: Eventos que afecten los estados financieros y todas aquellas áreas involucradas con el proceso financiero como presupuesto, tesorería, contabilidad, cartera, central de cuentas, costos, etc. | I10: Área de impacto
B11: Fallas tecnológicas | C11: Errores en hardware, software, telecomunicaciones, interrupción de servicios básicos. | I11: Económica
B12: Relaciones laborales | C12: Pérdidas que surgen de acciones contrarias a las leyes o acuerdos de empleo, salud o seguridad, del pago de demandas por daños personales o de discriminación. | I12: Reputacional
B13: Usuarios, productos y prácticas | C13: Fallas negligentes o involuntarias de las obligaciones frente a los usuarios y que impiden satisfacer una obligación profesional frente a éstos. | I13: Económica y reputacional
B14: Interrupción / Eventos externos / Daños a activos fijos. | C14: Pérdida por daños o extravíos de los activos fijos por desastres naturales u otros riesgos/eventos externos como atentados, vandalismo, orden público.
B15: De cumplimiento | C15: Eventos que afecten la situación jurídica o contractual de la organización debido a su incumplimiento o desacato a la normatividad legal y las obligaciones contractuales.
B16: Ambiental | C16: Posibilidad de que por forma natural o por acción humana se produzca daño en el medio ambiente.
B17: Fiscal | C17: Es el efecto dañoso sobre los recursos públicos y/o los bienes y/o intereses patrimoniales de naturaleza pública, a causa de un evento potencial.
B18: LA/FT- FPADM | C18: Posibilidad de pérdida o daño económico o reputacional que puede sufrir una persona natural o jurídica, al ser utilizada para el lavado de activos, financiación del terrorismo o de la proliferación de armas de destrucción masiva.
B20: Tabla 2. Niveles de probabilidad
B21: NIVEL | C21: DESCRIPTOR | D21: DESCRIPCIÓN RIESGOS DE GESTIÓN Y SEGURIDAD DE LA INFORMACIÓN | F21: DESCRIPCIÓN RIESGOS DE CORRUPCIÓN
B22: 0.2 | C22: Muy baja | D22: La actividad que conlleva el riesgo se ejecuta como máximos 2 veces por año | F22: El evento puede ocurrir solo en circunstancias excepcionales o no se ha presentado en los últimos 5 años.
B23: 0.4 | C23: Baja | D23: La actividad que conlleva el riesgo se ejecuta de 3 a 24 veces por año | F23: El evento puede ocurrir en algún momento o se ha presentado al menos 1 vez en los últimos 5 años.
B24: 0.6 | C24: Media | D24: La actividad que conlleva el riesgo se ejecuta de 25 a 500 veces por año | F24: El evento podrá ocurrir en algún momento o se ha presentado al menos 1 vez en los últimos 2 años.
B25: 0.8 | C25: Alta | D25: La actividad que conlleva el riesgo se ejecuta mínimo 500 veces al año y máximo 5000 veces por año | F25: Es viable que el evento ocurra en la mayoría de las circunstancias o se ha presentado al menos 1 vez en el último año.
B26: 1 | C26: Muy alta | D26: La actividad que conlleva el riesgo se ejecuta más de 5000 veces por año | F26: Se espera que el evento ocurra en la mayoría de las circunstancias o se ha presentado más de 1 vez al año.
B28: Tabla 3. Niveles de impacto
B29: NIVEL | C29: DESCRIPTOR | D29: AFECTACIÓN ECONÓMICA | F29: AFECTACIÓN REPUTACIONAL
B30: 0.2 | C30: Leve | D30: Afectación menor a 100 SMLMV. | F30: El riesgo afecta la imagen de algún área de la entidad.
B31: 0.4 | C31: Menor | D31: Entre 100 y 500 SMLMV. | F31: El riesgo afecta la imagen de la entidad internamente, de conocimiento general a nivel interno, de alta o media dirección y/o de proveedores.
B32: 0.6 | C32: Moderado | D32: Entre 500 y 1000 SMLMV. | F32: El riesgo afecta la imagen de la entidad con algunos usuarios de relevancia frente al logro de los objetivos.
B33: 0.8 | C33: Mayor | D33: Entre 1000 y 5000 SMLMV. | F33: El riesgo afecta la imagen de la entidad con efecto publicitario sostenido a nivel de sector administrativo, nivel departamental o municipal.
B34: 1 | C34: Catastrófico | D34: Mayor a 5000 SMLMV. | F34: El riesgo afecta la imagen de la entidad a nivel nacional, con efecto publicitario sostenido a nivel país.
B36: Tabla 4. Mapa de calor
B37: \Impacto \ Probabilidad\ | C37: 20% - Leve | D37: 40% - Menor | E37: 60% - Moderado | F37: 80% - Mayor | G37: 100% - Catastrófico
B38: 1 | C38: 2 | D38: 3 | E38: 4 | F38: 5 | G38: 6
A39: 1 | B39: 100% - Muy alta | C39: Alto | D39: Alto | E39: Alto | F39: Alto | G39: Extremo | I39: 20% - Muy baja | J39: 20% - Leve
A40: 2 | B40: 80% - Alta | C40: Moderado | D40: Moderado | E40: Alto | F40: Alto | G40: Extremo | I40: 40% - Baja | J40: 40% - Menor
A41: 3 | B41: 60% - Media | C41: Moderado | D41: Moderado | E41: Moderado | F41: Alto | G41: Extremo | I41: 60% - Media | J41: 60% - Moderado
A42: 4 | B42: 40% - Baja | C42: Bajo | D42: Moderado | E42: Moderado | F42: Alto | G42: Extremo | I42: 80% - Alta | J42: 80% - Mayor
A43: 5 | B43: 20% - Muy baja | C43: Bajo | D43: Bajo | E43: Moderado | F43: Alto | G43: Extremo | I43: 100% - Muy alta | J43: 100% - Catastrófico
...

Sheet Criterios
A2: Atributos de eficiencia
A3: Tipo | B3: Preventivo | C3: 0.25
B4: Detectivo | C4: 0.15
B5: Correctivo | C5: 0.1
B6: No aplica
A7: Implementación | B7: Automático | C7: 0.25
B8: Manual | C8: 0.15
B9: No aplica
A11: Atributos informativos
A12: Documentación | B12: Documentado | D12: Responsable | E12: Identificado
B13: Sin documentar | E13: No identificado
A14: Frecuencia | B14: Continua | D14: Propósito | E14: Si
B15: Aleatoria | E15: No
A16: Evidencia | B16: Con registro
B17: Sin registro
A19: Probabilidad Inherente
A20: Muy baja | B20: 0.2
A21: Baja | B21: 0.4
A22: Media | B22: 0.6
A23: Alta | B23: 0.8
A24: Muy alta | B24: 1
